BEGIN:VCALENDAR
VERSION:2.0
PRODID:-//www.gramonet.cz//GramonetCalLib 1.0//EN
CALSCALE:GREGORIAN
METHOD:PUBLISH
BEGIN:VEVENT
SUMMARY:Lucie Bílá - recitál
LOCATION:Dusíkovo divadlo Čáslav
DTSTART:20260305T000000
DTEND:20260306T000000
UID:2026-04-19-20-58-39@infocaslav.cz
DTSTAMP:20260419T185839
Description:
END:VEVENT
END:VCALENDAR
