BEGIN:VCALENDAR
VERSION:2.0
PRODID:-//www.gramonet.cz//GramonetCalLib 1.0//EN
CALSCALE:GREGORIAN
METHOD:PUBLISH
BEGIN:VEVENT
SUMMARY:Luční kytice
LOCATION:Budova muzea, Husova 291, Čáslav
DTSTART:20250620T000000
DTEND:20250621T000000
UID:2026-04-19-20-57-31@infocaslav.cz
DTSTAMP:20260419T185731
Description:
END:VEVENT
END:VCALENDAR
