BEGIN:VCALENDAR
VERSION:2.0
PRODID:-//www.gramonet.cz//GramonetCalLib 1.0//EN
CALSCALE:GREGORIAN
METHOD:PUBLISH
BEGIN:VEVENT
SUMMARY:Lukáš Hejlík
LOCATION:Dusíkovo divadlo Čáslav, Masarykova 194/36
DTSTART:20220217T000000
DTEND:20220218T000000
UID:2026-04-19-19-26-22@infocaslav.cz
DTSTAMP:20260419T172622
Description:Populární literárně-zábavný pořad tentokrát se zakladat
 eli projektu\, kteří k nám dorazí se zbrusu novým dílem na základě
  nové knihy.\n\nKDYŽ PANDA TANČÍ (James Gould-Bourn)\n\nČekat pobaven
 í od příběhu\, v němž hlavní hrdina ztratil milovanou ženu\, jeho 
 syn od té doby nepromluvil ani slovo\, v práci dostal padáka a bez prax
 e nemůže dělat ani venčitele psů? Ano\, nebojte! Začne totiž v park
 u tančit jako panda. Přestože jeho vypelichaný kostým páchne jako zv
 ratky a lidé si ho pletou s fretkou\, blýskne se mu na lepší časy\, k
 dyž se dozví o soutěži talentů. Do parády si ho navíc vezme tanečn
 ice u tyče. Podaří se Dannymu vyhrát hlavní cenu a získat zpět dův
 ěru jediného syna\, než mu zlotřilý domácí nechá zpřerážet kost
 i?\nZačátek 20:00\, vstupné 150\,-
END:VEVENT
END:VCALENDAR
