BEGIN:VCALENDAR
VERSION:2.0
PRODID:-//www.gramonet.cz//GramonetCalLib 1.0//EN
CALSCALE:GREGORIAN
METHOD:PUBLISH
BEGIN:VEVENT
SUMMARY:Májový koncert
LOCATION:kostel Panny Marie Na Náměti v Kutné Hoře
DTSTART:20250531T000000
DTEND:20250601T000000
UID:2026-04-19-19-29-40@infocaslav.cz
DTSTAMP:20260419T172940
Description:
END:VEVENT
END:VCALENDAR
