BEGIN:VCALENDAR
VERSION:2.0
PRODID:-//www.gramonet.cz//GramonetCalLib 1.0//EN
CALSCALE:GREGORIAN
METHOD:PUBLISH
BEGIN:VEVENT
SUMMARY:MAKAČÍNO Kačina
LOCATION:Zámek Kačina
DTSTART:20240613T000000
DTEND:20240617T000000
UID:2026-04-19-19-31-28@infocaslav.cz
DTSTAMP:20260419T173128
Description:Zámek Kačina srdečně zve na divadelní festival MAKAČÍNO.
END:VEVENT
END:VCALENDAR
