BEGIN:VCALENDAR
VERSION:2.0
PRODID:-//www.gramonet.cz//GramonetCalLib 1.0//EN
CALSCALE:GREGORIAN
METHOD:PUBLISH
BEGIN:VEVENT
SUMMARY:Maria Černá Pivovarová - Zprávy z podzemí, výtvarné ruské u
 mění
LOCATION:Klub Gumárna Bar K. Pazderského 2045, 28601 Čáslav-Nové Měst
 o, Česko
DTSTART:20220301T000000
DTEND:20220302T000000
UID:2026-04-19-19-37-18@infocaslav.cz
DTSTAMP:20260419T173718
Description:
END:VEVENT
END:VCALENDAR
