BEGIN:VCALENDAR
VERSION:2.0
PRODID:-//www.gramonet.cz//GramonetCalLib 1.0//EN
CALSCALE:GREGORIAN
METHOD:PUBLISH
BEGIN:VEVENT
SUMMARY:Marie Tilšarová + Mantrovníci - hudební vystoupení
LOCATION:Diakonie, Komenského nám. 140
DTSTART:20220625T000000
DTEND:20220626T000000
UID:2026-04-19-19-37-31@infocaslav.cz
DTSTAMP:20260419T173731
Description:
END:VEVENT
END:VCALENDAR
