BEGIN:VCALENDAR
VERSION:2.0
PRODID:-//www.gramonet.cz//GramonetCalLib 1.0//EN
CALSCALE:GREGORIAN
METHOD:PUBLISH
BEGIN:VEVENT
SUMMARY:Martinská koleda
LOCATION:Lossenland farm, Štrampouch
DTSTART:20241109T000000
DTEND:20241110T000000
UID:2026-04-19-19-30-50@infocaslav.cz
DTSTAMP:20260419T173050
Description:Lossenland farm a Art Dance Academy KH pořádá akci pro děti
  a rodiče s názvem Martinská Koleda 9. 11. 2024 od 12 hod. Těšit se m
 ůžete na drobný jarmark\, lidová řemesla\, dětské dílničky\, obč
 erstvení a krmení zvířátek.\nBohatý taneční a hudební program.\nL
 ampionový průvod a překvapení na závěr.\nVstupné základní 100\,- 
 Kč\, děti a důchodci 50\,- Kč.
END:VEVENT
END:VCALENDAR
