BEGIN:VCALENDAR
VERSION:2.0
PRODID:-//www.gramonet.cz//GramonetCalLib 1.0//EN
CALSCALE:GREGORIAN
METHOD:PUBLISH
BEGIN:VEVENT
SUMMARY:Martinská koleda
LOCATION:Lossenland farm, Štrampouch
DTSTART:20231104T000000
DTEND:20231105T000000
UID:2026-04-19-19-30-01@infocaslav.cz
DTSTAMP:20260419T173001
Description:
END:VEVENT
END:VCALENDAR
