BEGIN:VCALENDAR
VERSION:2.0
PRODID:-//www.gramonet.cz//GramonetCalLib 1.0//EN
CALSCALE:GREGORIAN
METHOD:PUBLISH
BEGIN:VEVENT
SUMMARY:Masopustní průvod ZŠ Náměstí
LOCATION:náměstí Jana Žižky z Trocnova
DTSTART:20260216T000000
DTEND:20260217T000000
UID:2026-04-19-19-27-39@infocaslav.cz
DTSTAMP:20260419T172739
Description:
END:VEVENT
END:VCALENDAR
