BEGIN:VCALENDAR
VERSION:2.0
PRODID:-//www.gramonet.cz//GramonetCalLib 1.0//EN
CALSCALE:GREGORIAN
METHOD:PUBLISH
BEGIN:VEVENT
SUMMARY:Matrix Resurrections
LOCATION:Kino Miloše Formana, Jeníkovská 138/25
DTSTART:20220128T000000
DTEND:20220129T000000
UID:2026-04-19-19-29-36@infocaslav.cz
DTSTAMP:20260419T172936
Description:
END:VEVENT
END:VCALENDAR
