BEGIN:VCALENDAR
VERSION:2.0
PRODID:-//www.gramonet.cz//GramonetCalLib 1.0//EN
CALSCALE:GREGORIAN
METHOD:PUBLISH
BEGIN:VEVENT
SUMMARY:Maturitní ples 4.PMP, Gymnázium a SOŠPg Čáslav
LOCATION:hotel Grand
DTSTART:20230210T000000
DTEND:20230211T000000
UID:2026-04-19-19-37-29@infocaslav.cz
DTSTAMP:20260419T173729
Description:
END:VEVENT
END:VCALENDAR
