BEGIN:VCALENDAR
VERSION:2.0
PRODID:-//www.gramonet.cz//GramonetCalLib 1.0//EN
CALSCALE:GREGORIAN
METHOD:PUBLISH
BEGIN:VEVENT
SUMMARY:Maturitní ples - 4. SPGŠ
LOCATION:nám. Jana Žižky z Trocnova 74/11
DTSTART:20220402T000000
DTEND:20220403T000000
UID:2026-04-19-19-33-55@infocaslav.cz
DTSTAMP:20260419T173355
Description:
END:VEVENT
END:VCALENDAR
