BEGIN:VCALENDAR
VERSION:2.0
PRODID:-//www.gramonet.cz//GramonetCalLib 1.0//EN
CALSCALE:GREGORIAN
METHOD:PUBLISH
BEGIN:VEVENT
SUMMARY:Maturitní ples 4.V SZeŠ Čáslav
LOCATION:Grand Čáslav
DTSTART:20240223T000000
DTEND:20240224T000000
UID:2026-04-19-19-32-40@infocaslav.cz
DTSTAMP:20260419T173240
Description:
END:VEVENT
END:VCALENDAR
