BEGIN:VCALENDAR
VERSION:2.0
PRODID:-//www.gramonet.cz//GramonetCalLib 1.0//EN
CALSCALE:GREGORIAN
METHOD:PUBLISH
BEGIN:VEVENT
SUMMARY:Maturitní ples - Gymnázium
LOCATION:Hotel Grand nám. Jana Žižky z Trocnova 74/11
DTSTART:20220408T000000
DTEND:20220409T000000
UID:2026-04-19-19-35-39@infocaslav.cz
DTSTAMP:20260419T173539
Description:
END:VEVENT
END:VCALENDAR
