BEGIN:VCALENDAR
VERSION:2.0
PRODID:-//www.gramonet.cz//GramonetCalLib 1.0//EN
CALSCALE:GREGORIAN
METHOD:PUBLISH
BEGIN:VEVENT
SUMMARY:MATURITNÍ PLES OA4B a EL4
LOCATION:hotel Grand
DTSTART:20230120T000000
DTEND:20230121T000000
UID:2026-04-19-19-34-19@infocaslav.cz
DTSTAMP:20260419T173419
Description:
END:VEVENT
END:VCALENDAR
