BEGIN:VCALENDAR
VERSION:2.0
PRODID:-//www.gramonet.cz//GramonetCalLib 1.0//EN
CALSCALE:GREGORIAN
METHOD:PUBLISH
BEGIN:VEVENT
SUMMARY:Melounová slavnost
LOCATION:Palackého nám. 65, Vlašim
DTSTART:20240828T000000
DTEND:20240829T000000
UID:2026-04-19-19-32-53@infocaslav.cz
DTSTAMP:20260419T173253
Description:Sportovně-zábavná akce pro děti. Neděle 1. září od 14 h
 od
END:VEVENT
END:VCALENDAR
