BEGIN:VCALENDAR
VERSION:2.0
PRODID:-//www.gramonet.cz//GramonetCalLib 1.0//EN
CALSCALE:GREGORIAN
METHOD:PUBLISH
BEGIN:VEVENT
SUMMARY:Memoriál Jaroslava Marka
LOCATION:Kynologická organizace Čáslav
DTSTART:20220402T000000
DTEND:20220403T000000
UID:2026-04-19-19-33-05@infocaslav.cz
DTSTAMP:20260419T173305
Description:
END:VEVENT
END:VCALENDAR
