BEGIN:VCALENDAR
VERSION:2.0
PRODID:-//www.gramonet.cz//GramonetCalLib 1.0//EN
CALSCALE:GREGORIAN
METHOD:PUBLISH
BEGIN:VEVENT
SUMMARY:Měsíc věží a rozhleden
LOCATION:Čáslav
DTSTART:20240928T000000
DTEND:20241029T000000
UID:2026-04-19-19-34-26@infocaslav.cz
DTSTAMP:20260419T173426
Description:Měsíc věží a rozhleden probíhá od 28. 09. 2024 do 28. 10
 . 2024\, je pro Vás připravena soutěž o lákavé ceny. Stačí navšt
 vit v tomto období minimálně jednu věž či rozhlednu (s dalšími 3v
 ýstupy kdykoliv) a  můžete se zúčastnit slosování o horské kolo Ga
 laxy a další odměny. Potřebujete 4 správně orazítkované pohledy s 
 datumem výstupu\, jménem a telefonem. Losovat bude Václav Vydra 14. 03.
  2025 na veletrhu Holiday World v Praze. Zakončení měsíce věží a ro
 zhleden je Český den s českými vlajkami  28. října. Záměrem tohoto
  výstupu je vytvoření nové české tradice\, aby Češi v tento státn
 í svátek kdekoliv na světě vystoupali s českou vlajkou na některou v
 ěž či rozhlednu.
END:VEVENT
END:VCALENDAR
