BEGIN:VCALENDAR
VERSION:2.0
PRODID:-//www.gramonet.cz//GramonetCalLib 1.0//EN
CALSCALE:GREGORIAN
METHOD:PUBLISH
BEGIN:VEVENT
SUMMARY:Městské muzeum v Čáslavi včera, dnes a zítra
LOCATION:Nová scéna Dusíkova divadla
DTSTART:20241015T000000
DTEND:20241016T000000
UID:2026-04-19-19-37-27@infocaslav.cz
DTSTAMP:20260419T173727
Description:
END:VEVENT
END:VCALENDAR
