BEGIN:VCALENDAR
VERSION:2.0
PRODID:-//www.gramonet.cz//GramonetCalLib 1.0//EN
CALSCALE:GREGORIAN
METHOD:PUBLISH
BEGIN:VEVENT
SUMMARY:Městské slavnosti v Ledči nad Sázavou
LOCATION:Ledeč nad Sázavou
DTSTART:20240615T000000
DTEND:20240616T000000
UID:2026-04-19-21-07-17@infocaslav.cz
DTSTAMP:20260419T190717
Description:
END:VEVENT
END:VCALENDAR
