BEGIN:VCALENDAR
VERSION:2.0
PRODID:-//www.gramonet.cz//GramonetCalLib 1.0//EN
CALSCALE:GREGORIAN
METHOD:PUBLISH
BEGIN:VEVENT
SUMMARY:22. ples města Čáslav
LOCATION:Sál hotelu Grand
DTSTART:20240106T000000
DTEND:20240107T000000
UID:2026-04-19-19-29-23@infocaslav.cz
DTSTAMP:20260419T172923
Description:Dne 6. ledna 2024 se koná již 22. ples města Čáslavi od 19
 :30.
END:VEVENT
END:VCALENDAR
