BEGIN:VCALENDAR
VERSION:2.0
PRODID:-//www.gramonet.cz//GramonetCalLib 1.0//EN
CALSCALE:GREGORIAN
METHOD:PUBLISH
BEGIN:VEVENT
SUMMARY:Meteorit to není jen černý kámen
LOCATION:Výstavní síň, náměstí J. Žižky z Trocnova
DTSTART:20250224T000000
DTEND:20250324T000000
UID:2026-04-19-19-26-54@infocaslav.cz
DTSTAMP:20260419T172654
Description:.
END:VEVENT
END:VCALENDAR
