BEGIN:VCALENDAR
VERSION:2.0
PRODID:-//www.gramonet.cz//GramonetCalLib 1.0//EN
CALSCALE:GREGORIAN
METHOD:PUBLISH
BEGIN:VEVENT
SUMMARY:Michal Bystrov
LOCATION:Gumárna
DTSTART:20230308T000000
DTEND:20230309T000000
UID:2026-04-19-19-31-01@infocaslav.cz
DTSTAMP:20260419T173101
Description:
END:VEVENT
END:VCALENDAR
