BEGIN:VCALENDAR
VERSION:2.0
PRODID:-//www.gramonet.cz//GramonetCalLib 1.0//EN
CALSCALE:GREGORIAN
METHOD:PUBLISH
BEGIN:VEVENT
SUMMARY:Mikulášská škola
LOCATION:ZŠ Čáslav, Masarykova
DTSTART:20251203T000000
DTEND:20251204T000000
UID:2026-04-19-19-32-48@infocaslav.cz
DTSTAMP:20260419T173248
Description:
END:VEVENT
END:VCALENDAR
