BEGIN:VCALENDAR
VERSION:2.0
PRODID:-//www.gramonet.cz//GramonetCalLib 1.0//EN
CALSCALE:GREGORIAN
METHOD:PUBLISH
BEGIN:VEVENT
SUMMARY:Miloš Sláma -Linoryt
LOCATION:nám. Jana Žižky z Trocnova 197
DTSTART:20220125T000000
DTEND:20220228T000000
UID:2026-04-19-19-32-01@infocaslav.cz
DTSTAMP:20260419T173201
Description:
END:VEVENT
END:VCALENDAR
