BEGIN:VCALENDAR
VERSION:2.0
PRODID:-//www.gramonet.cz//GramonetCalLib 1.0//EN
CALSCALE:GREGORIAN
METHOD:PUBLISH
BEGIN:VEVENT
SUMMARY:MIMO FEST
LOCATION:Hrad Ledeč nad Sázavou
DTSTART:20250808T000000
DTEND:20250810T000000
UID:2026-04-19-19-26-25@infocaslav.cz
DTSTAMP:20260419T172625
Description:
END:VEVENT
END:VCALENDAR
