BEGIN:VCALENDAR
VERSION:2.0
PRODID:-//www.gramonet.cz//GramonetCalLib 1.0//EN
CALSCALE:GREGORIAN
METHOD:PUBLISH
BEGIN:VEVENT
SUMMARY:Mimoni 2: Padouch přichází
LOCATION:Kino Miloše Formana, Jeníkovská 138/25, 28601
DTSTART:20220706T000000
DTEND:20220707T000000
UID:2026-04-19-19-34-35@infocaslav.cz
DTSTAMP:20260419T173435
Description:
END:VEVENT
END:VCALENDAR
