BEGIN:VCALENDAR
VERSION:2.0
PRODID:-//www.gramonet.cz//GramonetCalLib 1.0//EN
CALSCALE:GREGORIAN
METHOD:PUBLISH
BEGIN:VEVENT
SUMMARY:Mimoni jsou s námi
LOCATION:Dům dětí a mládeže Čáslav, Jeníkovská 222
DTSTART:20220227T000000
DTEND:20220228T000000
UID:2026-04-19-21-04-56@infocaslav.cz
DTSTAMP:20260419T190456
Description:Výroba oblíbených mimoňů ze skleněné lahve.\nZačátek: 
 15:00\nVstupné: 70\,-
END:VEVENT
END:VCALENDAR
