BEGIN:VCALENDAR
VERSION:2.0
PRODID:-//www.gramonet.cz//GramonetCalLib 1.0//EN
CALSCALE:GREGORIAN
METHOD:PUBLISH
BEGIN:VEVENT
SUMMARY:Mírová pochodeň
LOCATION:Náměstí Jana Žižky z Trocnova, Čáslav
DTSTART:20250530T000000
DTEND:20250531T000000
UID:2026-04-19-21-03-26@infocaslav.cz
DTSTAMP:20260419T190326
Description:
END:VEVENT
END:VCALENDAR
