BEGIN:VCALENDAR
VERSION:2.0
PRODID:-//www.gramonet.cz//GramonetCalLib 1.0//EN
CALSCALE:GREGORIAN
METHOD:PUBLISH
BEGIN:VEVENT
SUMMARY:Míša Růžičková v Čáslavi
LOCATION:hotel Grand
DTSTART:20221125T000000
DTEND:20221126T000000
UID:2026-04-19-19-34-29@infocaslav.cz
DTSTAMP:20260419T173429
Description:
END:VEVENT
END:VCALENDAR
