BEGIN:VCALENDAR
VERSION:2.0
PRODID:-//www.gramonet.cz//GramonetCalLib 1.0//EN
CALSCALE:GREGORIAN
METHOD:PUBLISH
BEGIN:VEVENT
SUMMARY:Míša Růžičková: VÁNOČNÍ SHOW
LOCATION:Hotel Grand Čáslav
DTSTART:20231208T000000
DTEND:20231209T000000
UID:2026-04-19-19-33-21@infocaslav.cz
DTSTAMP:20260419T173321
Description:Srdečně Vás zveme na Vánoční show v podání Míši Růž
 ičkové 8.12.2023 v hotelu Grand v Čáslavi. Cena vystoupení je 320 Kč
 \, dítě se ZTP/P průkazem do 15 let má po předložení průkazu 50% s
 levu.
END:VEVENT
END:VCALENDAR
