BEGIN:VCALENDAR
VERSION:2.0
PRODID:-//www.gramonet.cz//GramonetCalLib 1.0//EN
CALSCALE:GREGORIAN
METHOD:PUBLISH
BEGIN:VEVENT
SUMMARY:Misha osmiboj
LOCATION:Koupaliště Vodranty
DTSTART:20250626T000000
DTEND:20250627T000000
UID:2026-04-19-19-31-21@infocaslav.cz
DTSTAMP:20260419T173121
Description:
END:VEVENT
END:VCALENDAR
