BEGIN:VCALENDAR
VERSION:2.0
PRODID:-//www.gramonet.cz//GramonetCalLib 1.0//EN
CALSCALE:GREGORIAN
METHOD:PUBLISH
BEGIN:VEVENT
SUMMARY:Mistrovství České republiky ČMTF
LOCATION:Zimní stadion
DTSTART:20230506T000000
DTEND:20230509T000000
UID:2026-04-19-19-35-45@infocaslav.cz
DTSTAMP:20260419T173545
Description:
END:VEVENT
END:VCALENDAR
