BEGIN:VCALENDAR
VERSION:2.0
PRODID:-//www.gramonet.cz//GramonetCalLib 1.0//EN
CALSCALE:GREGORIAN
METHOD:PUBLISH
BEGIN:VEVENT
SUMMARY:Mladí fotografují památky
LOCATION:
DTSTART:20241014T000000
DTEND:20250204T000000
UID:2026-04-19-19-36-19@infocaslav.cz
DTSTAMP:20260419T173619
Description:
END:VEVENT
END:VCALENDAR
