BEGIN:VCALENDAR
VERSION:2.0
PRODID:-//www.gramonet.cz//GramonetCalLib 1.0//EN
CALSCALE:GREGORIAN
METHOD:PUBLISH
BEGIN:VEVENT
SUMMARY:Módní přehlídka klobouků
LOCATION:Výstavní síň městského muzea Čáslav, nám. Jana Žižky z 
 Trocnova 1/1
DTSTART:20220723T000000
DTEND:20220724T000000
UID:2026-04-19-19-33-30@infocaslav.cz
DTSTAMP:20260419T173330
Description:
END:VEVENT
END:VCALENDAR
