BEGIN:VCALENDAR
VERSION:2.0
PRODID:-//www.gramonet.cz//GramonetCalLib 1.0//EN
CALSCALE:GREGORIAN
METHOD:PUBLISH
BEGIN:VEVENT
SUMMARY:Moje krásná příšerka
LOCATION:Kino Miloše Formana, Jeníkovská 138/25
DTSTART:20220226T000000
DTEND:20220227T000000
UID:2026-04-19-19-26-13@infocaslav.cz
DTSTAMP:20260419T172613
Description:
END:VEVENT
END:VCALENDAR
