BEGIN:VCALENDAR
VERSION:2.0
PRODID:-//www.gramonet.cz//GramonetCalLib 1.0//EN
CALSCALE:GREGORIAN
METHOD:PUBLISH
BEGIN:VEVENT
SUMMARY:Moje pacifická hřebenovka
LOCATION:Kostelní náměstí 197/11
DTSTART:20220323T000000
DTEND:20220324T000000
UID:2026-04-19-19-33-58@infocaslav.cz
DTSTAMP:20260419T173358
Description:
END:VEVENT
END:VCALENDAR
