BEGIN:VCALENDAR
VERSION:2.0
PRODID:-//www.gramonet.cz//GramonetCalLib 1.0//EN
CALSCALE:GREGORIAN
METHOD:PUBLISH
BEGIN:VEVENT
SUMMARY:Moje žena se zbláznila
LOCATION:Dusíkovo divadlo Čáslav, Malá scéna
DTSTART:20250919T000000
DTEND:20250920T000000
UID:2026-04-19-19-26-29@infocaslav.cz
DTSTAMP:20260419T172629
Description:
END:VEVENT
END:VCALENDAR
