BEGIN:VCALENDAR
VERSION:2.0
PRODID:-//www.gramonet.cz//GramonetCalLib 1.0//EN
CALSCALE:GREGORIAN
METHOD:PUBLISH
BEGIN:VEVENT
SUMMARY:Mučedník
LOCATION:Nová scéna Dusíkova divadla
DTSTART:20220118T000000
DTEND:20220119T000000
UID:2026-04-19-21-00-19@infocaslav.cz
DTSTAMP:20260419T190019
Description:
END:VEVENT
END:VCALENDAR
