BEGIN:VCALENDAR
VERSION:2.0
PRODID:-//www.gramonet.cz//GramonetCalLib 1.0//EN
CALSCALE:GREGORIAN
METHOD:PUBLISH
BEGIN:VEVENT
SUMMARY:Můj život s Bohuslavem Martinů
LOCATION:Kino Miloše Formana, Jeníkovská 138/25
DTSTART:20220126T000000
DTEND:20220113T000000
UID:2026-04-19-19-36-06@infocaslav.cz
DTSTAMP:20260419T173606
Description:
END:VEVENT
END:VCALENDAR
