BEGIN:VCALENDAR
VERSION:2.0
PRODID:-//www.gramonet.cz//GramonetCalLib 1.0//EN
CALSCALE:GREGORIAN
METHOD:PUBLISH
BEGIN:VEVENT
SUMMARY:Muzejní a vlastivědný spolek Včela Čáslavská
LOCATION:Dusíkovo divadlo Čáslav, Masarykova 194/36
DTSTART:20220517T000000
DTEND:20220518T000000
UID:2026-04-19-21-07-58@infocaslav.cz
DTSTAMP:20260419T190758
Description:
END:VEVENT
END:VCALENDAR
