BEGIN:VCALENDAR
VERSION:2.0
PRODID:-//www.gramonet.cz//GramonetCalLib 1.0//EN
CALSCALE:GREGORIAN
METHOD:PUBLISH
BEGIN:VEVENT
SUMMARY:Muzejní a vlastivědný spolek Včela čáslavská
LOCATION:Dusíkovo divadlo Čáslav, Masarykova 194/36
DTSTART:20220614T000000
DTEND:20220615T000000
UID:2026-04-19-21-08-35@infocaslav.cz
DTSTAMP:20260419T190835
Description:
END:VEVENT
END:VCALENDAR
