BEGIN:VCALENDAR
VERSION:2.0
PRODID:-//www.gramonet.cz//GramonetCalLib 1.0//EN
CALSCALE:GREGORIAN
METHOD:PUBLISH
BEGIN:VEVENT
SUMMARY:Muzejní noc
LOCATION:NZM Čáslav – Jeníkovská 1762
DTSTART:20240921T000000
DTEND:20240922T000000
UID:2026-04-19-19-32-44@infocaslav.cz
DTSTAMP:20260419T173244
Description:
END:VEVENT
END:VCALENDAR
