BEGIN:VCALENDAR
VERSION:2.0
PRODID:-//www.gramonet.cz//GramonetCalLib 1.0//EN
CALSCALE:GREGORIAN
METHOD:PUBLISH
BEGIN:VEVENT
SUMMARY:Muzejní noc
LOCATION:Městské muzeum Čáslav, Husova 291/3, 28601
DTSTART:20250523T000000
DTEND:20250524T000000
UID:2026-04-19-19-33-10@infocaslav.cz
DTSTAMP:20260419T173310
Description:
END:VEVENT
END:VCALENDAR
