BEGIN:VCALENDAR
VERSION:2.0
PRODID:-//www.gramonet.cz//GramonetCalLib 1.0//EN
CALSCALE:GREGORIAN
METHOD:PUBLISH
BEGIN:VEVENT
SUMMARY:Muzejní noc – noční jízda III
LOCATION:Zemědělské muzeum
DTSTART:20230923T000000
DTEND:20230924T000000
UID:2026-04-19-21-20-59@infocaslav.cz
DTSTAMP:20260419T192059
Description:Zveme Vás na nasvícené depozitáře\, osvětlené vozy\, dla
 bání dýní\, motokáry\, noční bojovka a světelné překvapení. To 
 vše slibuje Muzejní noc – noční jízda III.\n\nMuzejní noc – noč
 ní jízdu odstartujeme v 18 hodin.
END:VEVENT
END:VCALENDAR
