BEGIN:VCALENDAR
VERSION:2.0
PRODID:-//www.gramonet.cz//GramonetCalLib 1.0//EN
CALSCALE:GREGORIAN
METHOD:PUBLISH
BEGIN:VEVENT
SUMMARY:Muzejní noc Polabského muzea
LOCATION:Polabské muzeum Poděbrady
DTSTART:20240531T000000
DTEND:20240601T000000
UID:2026-04-19-19-36-51@infocaslav.cz
DTSTAMP:20260419T173651
Description:Polabské muzeum Poděbrady Vás zve na XV. MUZEJNÍ NOC POLABS
 KÉHO MUZEA.
END:VEVENT
END:VCALENDAR
