BEGIN:VCALENDAR
VERSION:2.0
PRODID:-//www.gramonet.cz//GramonetCalLib 1.0//EN
CALSCALE:GREGORIAN
METHOD:PUBLISH
BEGIN:VEVENT
SUMMARY:Muzejní spolky včera a dnes II.
LOCATION:Nová scéna Dusíkova divadla v Čáslavi
DTSTART:20241008T000000
DTEND:20241009T000000
UID:2026-04-19-19-36-09@infocaslav.cz
DTSTAMP:20260419T173609
Description:Městské muzeum a knihovna Čáslav a Muzejní a vlastivědný
  spolek \,\,Včela Čáslavská" srdečně zvou širokou odbornou i laicko
 u veřejnost k účasti na konferenci: Muzejní spolky včera a dnes II. K
 onference k 160. výročí založení Muzejního a vlastivědného spolku 
 Včela Čáslavská proběhne v úterý 8. 10. 2024 od 9:30 do 17:30 na  N
 ové scéně Dusíkova divadla v Čáslavi.
END:VEVENT
END:VCALENDAR
