BEGIN:VCALENDAR
VERSION:2.0
PRODID:-//www.gramonet.cz//GramonetCalLib 1.0//EN
CALSCALE:GREGORIAN
METHOD:PUBLISH
BEGIN:VEVENT
SUMMARY:Na kus řeči
LOCATION:Hotel Grand Čáslav
DTSTART:20260216T000000
DTEND:20250217T000000
UID:2026-04-19-19-26-19@infocaslav.cz
DTSTAMP:20260419T172619
Description:
END:VEVENT
END:VCALENDAR
