BEGIN:VCALENDAR
VERSION:2.0
PRODID:-//www.gramonet.cz//GramonetCalLib 1.0//EN
CALSCALE:GREGORIAN
METHOD:PUBLISH
BEGIN:VEVENT
SUMMARY:Připomínka 17. listopadu
LOCATION:Památník obětí, park u budovy gymnázia Čáslav
DTSTART:20251117T000000
DTEND:20251118T000000
UID:2026-04-19-19-36-06@infocaslav.cz
DTSTAMP:20260419T173606
Description:
END:VEVENT
END:VCALENDAR
